BEGIN:VCALENDAR
VERSION:2.0
PRODID:-//CMTUK - ECPv6.15.13.1//NONSGML v1.0//EN
CALSCALE:GREGORIAN
METHOD:PUBLISH
X-WR-CALNAME:CMTUK
X-ORIGINAL-URL:https://www.cmt.org.uk
X-WR-CALDESC:Events for CMTUK
REFRESH-INTERVAL;VALUE=DURATION:PT1H
X-Robots-Tag:noindex
X-PUBLISHED-TTL:PT1H
BEGIN:VTIMEZONE
TZID:Europe/London
BEGIN:DAYLIGHT
TZOFFSETFROM:+0000
TZOFFSETTO:+0100
TZNAME:BST
DTSTART:20250330T010000
END:DAYLIGHT
BEGIN:STANDARD
TZOFFSETFROM:+0100
TZOFFSETTO:+0000
TZNAME:GMT
DTSTART:20251026T010000
END:STANDARD
BEGIN:DAYLIGHT
TZOFFSETFROM:+0000
TZOFFSETTO:+0100
TZNAME:BST
DTSTART:20260329T010000
END:DAYLIGHT
BEGIN:STANDARD
TZOFFSETFROM:+0100
TZOFFSETTO:+0000
TZNAME:GMT
DTSTART:20261025T010000
END:STANDARD
BEGIN:DAYLIGHT
TZOFFSETFROM:+0000
TZOFFSETTO:+0100
TZNAME:BST
DTSTART:20270328T010000
END:DAYLIGHT
BEGIN:STANDARD
TZOFFSETFROM:+0100
TZOFFSETTO:+0000
TZNAME:GMT
DTSTART:20271031T010000
END:STANDARD
END:VTIMEZONE
BEGIN:VEVENT
DTSTART;TZID=Europe/London:20260415T193000
DTEND;TZID=Europe/London:20260415T210000
DTSTAMP:20260425T043457
CREATED:20260320T121720Z
LAST-MODIFIED:20260320T130330Z
UID:1434-1776281400-1776286800@www.cmt.org.uk
SUMMARY:WEST MIDLANDS Regional Support Group Online Meeting for People Living with Charcot-Marie-Tooth (CMT)
DESCRIPTION:You are warmly invited to join us for the CMTUK West Midlands Regional Support Group online meeting. \nIt is a relaxed and friendly space for us to connect\, share experiences\, ask questions\, or just enjoy a chat with others living with CMT in the North East. \n  Date: Wednesday\, 15 April\n  Time: 7:30pm \n Zoom Link: to get an access\, please email:  enquiries@cmt.org.uk \nPlease come along and help us build this supportive community – a safe\, welcoming place for everyone affected by CMT. \nDisclaimer: \nWe record and monitor all Zoom meetings for the welfare and safeguarding of Coordinators and members. All recordings are deleted after 30 days and are only accessible by the CMTUK Team. * By participating in the Regional Support Group Zoom sessions\, you are giving consent for the audio and video to be recorded.
URL:https://www.cmt.org.uk/event/west-midlands-regional-support-group-online-meeting-for-people-living-with-charcot-marie-tooth-cmt-6/
LOCATION:Zoom Online Meeting
CATEGORIES:Online Meetings
ATTACH;FMTTYPE=image/png:https://www.cmt.org.uk/wp-content/uploads/2026/03/west-mid-eve-april.png
END:VEVENT
BEGIN:VEVENT
DTSTART;TZID=Europe/London:20260416T193000
DTEND;TZID=Europe/London:20260416T210000
DTSTAMP:20260425T043457
CREATED:20260320T122341Z
LAST-MODIFIED:20260320T130336Z
UID:1443-1776367800-1776373200@www.cmt.org.uk
SUMMARY:PARENTS and GUARDIANS Support Group Online Meeting
DESCRIPTION:You’re warmly invited to join the CMTUK Parents & Guardians Support Group meeting on Thursday 16 April 2026 @ 7.30 PM\, held online via Zoom. \nThis group is suitable for anyone who is a Parent or Guardian of children under the age of 18\, living with CMT. \nIt’s a welcoming space to connect\, share experiences\, and support one another. \n  Date: Thursday\, 16 April\n  Time: 7:30 PM \n Zoom Link: to get an access\, please email:  enquiries@cmt.org.uk \nDisclaimer: \nWe record and monitor all Zoom meetings for the welfare and safeguarding of Coordinators and members. All recordings are deleted after 30 days and are only accessible by the CMTUK Team. * By participating in the Regional Support Group Zoom sessions\, you are giving consent for the audio and video to be recorded.
URL:https://www.cmt.org.uk/event/parents-and-guardians-support-group-online-meeting/
LOCATION:Zoom Online Meeting
CATEGORIES:Online Meetings
ATTACH;FMTTYPE=image/png:https://www.cmt.org.uk/wp-content/uploads/2026/03/Parents-april.png
END:VEVENT
BEGIN:VEVENT
DTSTART;TZID=Europe/London:20260420T110000
DTEND;TZID=Europe/London:20260420T123000
DTSTAMP:20260425T043457
CREATED:20260320T121929Z
LAST-MODIFIED:20260320T130340Z
UID:1437-1776682800-1776688200@www.cmt.org.uk
SUMMARY:WEST MIDLANDS Regional Support Group Online Meeting for People Living with Charcot-Marie-Tooth (CMT)
DESCRIPTION:You are warmly invited to join us for the CMTUK West Midlands Regional Support Group online meeting. \nIt is a relaxed and friendly space for us to connect\, share experiences\, ask questions\, or just enjoy a chat with others living with CMT in the North East. \n  Date: Monday\, 20 April\n  Time: 11:00am \n Zoom Link: to get an access\, please email:  enquiries@cmt.org.uk \nPlease come along and help us build this supportive community – a safe\, welcoming place for everyone affected by CMT. \nDisclaimer: \nWe record and monitor all Zoom meetings for the welfare and safeguarding of Coordinators and members. All recordings are deleted after 30 days and are only accessible by the CMTUK Team. * By participating in the Regional Support Group Zoom sessions\, you are giving consent for the audio and video to be recorded.
URL:https://www.cmt.org.uk/event/west-midlands-regional-support-group-online-meeting-for-people-living-with-charcot-marie-tooth-cmt-7/
LOCATION:Zoom Online Meeting
CATEGORIES:Online Meetings
ATTACH;FMTTYPE=image/png:https://www.cmt.org.uk/wp-content/uploads/2026/03/west-mid-20april.png
END:VEVENT
BEGIN:VEVENT
DTSTART;TZID=Europe/London:20260421T110000
DTEND;TZID=Europe/London:20260421T123000
DTSTAMP:20260425T043457
CREATED:20260320T122134Z
LAST-MODIFIED:20260320T130345Z
UID:1440-1776769200-1776774600@www.cmt.org.uk
SUMMARY:GLOUCESTERSHIRE Regional Support Group Online Meeting for People Living with Charcot-Marie-Tooth (CMT)
DESCRIPTION:You are warmly invited to join us for the CMTUK Gloucestershire Regional Support Group online meeting. \nIt is a relaxed and friendly space for us to connect\, share experiences\, ask questions\, or just enjoy a chat with others living with CMT in the North East. \n  Date: Tuesday\, 21 April\n  Time: 11:00am \n Zoom Link: to get an access\, please email:  enquiries@cmt.org.uk \nPlease come along and help us build this supportive community – a safe\, welcoming place for everyone affected by CMT. \nDisclaimer: \nWe record and monitor all Zoom meetings for the welfare and safeguarding of Coordinators and members. All recordings are deleted after 30 days and are only accessible by the CMTUK Team. * By participating in the Regional Support Group Zoom sessions\, you are giving consent for the audio and video to be recorded.
URL:https://www.cmt.org.uk/event/gloucestershire-regional-support-group-online-meeting-for-people-living-with-charcot-marie-tooth-cmt-2/
LOCATION:Zoom Online Meeting
CATEGORIES:Online Meetings
ATTACH;FMTTYPE=image/png:https://www.cmt.org.uk/wp-content/uploads/2026/03/GLOUCESTER-april.png
END:VEVENT
BEGIN:VEVENT
DTSTART;TZID=Europe/London:20260430T190000
DTEND;TZID=Europe/London:20260430T203000
DTSTAMP:20260425T043457
CREATED:20260320T122557Z
LAST-MODIFIED:20260320T130427Z
UID:1446-1777575600-1777581000@www.cmt.org.uk
SUMMARY:CARERS Support Group Online Meeting
DESCRIPTION:We are pleased to invite you to CMTUK Carers Support Group meeting on Thursday 30 April. \nThis group is suitable for anyone who is a Carer\, this might be a partner\, a sibling\, or a close friend caring for an adult with CMT. \nIt’s a welcoming space to connect\, share experiences\, and support one another. \n  Date: Thursday\, 30 April\n  Time: 7:00 PM \n Zoom Link: to get an access\, please email:  enquiries@cmt.org.uk \nWhether you’re looking for support\, want to share your experience\, or just need a place to be heard\, this is a friendly space for carers like you who help someone affected by CMT. \nDisclaimer: \nWe record and monitor all Zoom meetings for the welfare and safeguarding of Coordinators and members. All recordings are deleted after 30 days and are only accessible by the CMTUK Team. * By participating in the Regional Support Group Zoom sessions\, you are giving consent for the audio and video to be recorded.
URL:https://www.cmt.org.uk/event/carers-support-group-online-meeting-3/
LOCATION:Zoom Online Meeting
CATEGORIES:Online Meetings
ATTACH;FMTTYPE=image/png:https://www.cmt.org.uk/wp-content/uploads/2026/03/Carers-april.png
END:VEVENT
END:VCALENDAR