BEGIN:VCALENDAR
VERSION:2.0
PRODID:-//CMTUK - ECPv6.15.13.1//NONSGML v1.0//EN
CALSCALE:GREGORIAN
METHOD:PUBLISH
X-ORIGINAL-URL:https://www.cmt.org.uk
X-WR-CALDESC:Events for CMTUK
REFRESH-INTERVAL;VALUE=DURATION:PT1H
X-Robots-Tag:noindex
X-PUBLISHED-TTL:PT1H
BEGIN:VTIMEZONE
TZID:Europe/London
BEGIN:DAYLIGHT
TZOFFSETFROM:+0000
TZOFFSETTO:+0100
TZNAME:BST
DTSTART:20250330T010000
END:DAYLIGHT
BEGIN:STANDARD
TZOFFSETFROM:+0100
TZOFFSETTO:+0000
TZNAME:GMT
DTSTART:20251026T010000
END:STANDARD
BEGIN:DAYLIGHT
TZOFFSETFROM:+0000
TZOFFSETTO:+0100
TZNAME:BST
DTSTART:20260329T010000
END:DAYLIGHT
BEGIN:STANDARD
TZOFFSETFROM:+0100
TZOFFSETTO:+0000
TZNAME:GMT
DTSTART:20261025T010000
END:STANDARD
BEGIN:DAYLIGHT
TZOFFSETFROM:+0000
TZOFFSETTO:+0100
TZNAME:BST
DTSTART:20270328T010000
END:DAYLIGHT
BEGIN:STANDARD
TZOFFSETFROM:+0100
TZOFFSETTO:+0000
TZNAME:GMT
DTSTART:20271031T010000
END:STANDARD
END:VTIMEZONE
BEGIN:VEVENT
DTSTART;TZID=Europe/London:20260108T150000
DTEND;TZID=Europe/London:20260108T170000
DTSTAMP:20260422T000112
CREATED:20260108T133255Z
LAST-MODIFIED:20260108T134924Z
UID:1238-1767884400-1767891600@www.cmt.org.uk
SUMMARY:CMT episode 1: Challenges in the diagnosis and treatment of inherited neuropathies
DESCRIPTION:January is Charcot-Marie-Tooth Education Month. \nThe European online webinar series will take place throughout January\, focusing on Charcot-Marie-Tooth disease. \nThe sessions will feature expert speakers and the latest research insights\, offering valuable learning opportunities for the CMT community and professionals alike. \nEvery Thursday in January @ 3:00 PM (UK time) 💻 Online \nFind out more and register via the webinar website: \nCMT episode 1 \nWebinar series \nDelivered by Dr. Davide Pareyson (Fondazione IRCCS Istituto Neurologico C.Besta (FINCB)\, Milan\, Italy) & Dr. Filippo Genovese (The European Charcot-Marie-Tooth Federation & ACMT-Rete per la malattia di Charcot-Marie-Tooth OdV)\, Thu 08 Jan 2026 at 16:00 Paris Time This is a EURO-NMD webinar in collaboration with ERN-RND (rare neurological disorders) and European Academy of Neurology. READ CAREFULLY please: By registering and attending the webinar you consent to the recording of the webinar and its later diffusion through the EURO-NMD websites using an YouTube Channel
URL:https://www.cmt.org.uk/event/cmt-episode-1-challenges-in-the-diagnosis-and-treatment-of-inherited-neuropathies/
CATEGORIES:Webinar
ATTACH;FMTTYPE=image/png:https://www.cmt.org.uk/wp-content/uploads/2026/01/evemt-webinar.png
END:VEVENT
END:VCALENDAR