BEGIN:VCALENDAR
VERSION:2.0
PRODID:-//CMTUK - ECPv6.15.13.1//NONSGML v1.0//EN
CALSCALE:GREGORIAN
METHOD:PUBLISH
X-ORIGINAL-URL:https://www.cmt.org.uk
X-WR-CALDESC:Events for CMTUK
REFRESH-INTERVAL;VALUE=DURATION:PT1H
X-Robots-Tag:noindex
X-PUBLISHED-TTL:PT1H
BEGIN:VTIMEZONE
TZID:Europe/London
BEGIN:DAYLIGHT
TZOFFSETFROM:+0000
TZOFFSETTO:+0100
TZNAME:BST
DTSTART:20250330T010000
END:DAYLIGHT
BEGIN:STANDARD
TZOFFSETFROM:+0100
TZOFFSETTO:+0000
TZNAME:GMT
DTSTART:20251026T010000
END:STANDARD
BEGIN:DAYLIGHT
TZOFFSETFROM:+0000
TZOFFSETTO:+0100
TZNAME:BST
DTSTART:20260329T010000
END:DAYLIGHT
BEGIN:STANDARD
TZOFFSETFROM:+0100
TZOFFSETTO:+0000
TZNAME:GMT
DTSTART:20261025T010000
END:STANDARD
BEGIN:DAYLIGHT
TZOFFSETFROM:+0000
TZOFFSETTO:+0100
TZNAME:BST
DTSTART:20270328T010000
END:DAYLIGHT
BEGIN:STANDARD
TZOFFSETFROM:+0100
TZOFFSETTO:+0000
TZNAME:GMT
DTSTART:20271031T010000
END:STANDARD
END:VTIMEZONE
BEGIN:VEVENT
DTSTART;TZID=Europe/London:20260112T110000
DTEND;TZID=Europe/London:20260112T123000
DTSTAMP:20260422T023838
CREATED:20260105T120153Z
LAST-MODIFIED:20260105T120153Z
UID:1208-1768215600-1768221000@www.cmt.org.uk
SUMMARY:WEST MIDLANDS CMTUK Regional Support Group Online Meeting for People Living with Charcot-Marie-Tooth (CMT)
DESCRIPTION:
URL:https://www.cmt.org.uk/event/west-midlands-cmtuk-regional-support-group-online-meeting-for-people-living-with-charcot-marie-tooth-cmt/
CATEGORIES:Online Meetings
ATTACH;FMTTYPE=image/png:https://www.cmt.org.uk/wp-content/uploads/2026/01/WEST-MID.png
END:VEVENT
BEGIN:VEVENT
DTSTART;TZID=Europe/London:20260113T183000
DTEND;TZID=Europe/London:20260113T200000
DTSTAMP:20260422T023838
CREATED:20260105T120426Z
LAST-MODIFIED:20260105T120426Z
UID:1211-1768329000-1768334400@www.cmt.org.uk
SUMMARY:EAST MIDLANDS CMTUK Regional Support Group Online Meeting for People Living with Charcot-Marie-Tooth (CMT)
DESCRIPTION:
URL:https://www.cmt.org.uk/event/east-midlands-cmtuk-regional-support-group-online-meeting-for-people-living-with-charcot-marie-tooth-cmt/
CATEGORIES:Online Meetings
ATTACH;FMTTYPE=image/png:https://www.cmt.org.uk/wp-content/uploads/2026/01/EAST-MID.png
END:VEVENT
BEGIN:VEVENT
DTSTART;TZID=Europe/London:20260115T193000
DTEND;TZID=Europe/London:20260115T210000
DTSTAMP:20260422T023838
CREATED:20260105T121814Z
LAST-MODIFIED:20260105T121814Z
UID:1229-1768505400-1768510800@www.cmt.org.uk
SUMMARY:PARENTS & GUARDIANS CMTUK Support Group Online Meeting for Parents of Children with Charcot-Marie-Tooth (CMT)
DESCRIPTION:
URL:https://www.cmt.org.uk/event/parents-guardians-cmtuk-support-group-online-meeting-for-parents-of-children-with-charcot-marie-tooth-cmt/
CATEGORIES:Online Meetings
ATTACH;FMTTYPE=image/png:https://www.cmt.org.uk/wp-content/uploads/2026/01/PARENTS.png
END:VEVENT
BEGIN:VEVENT
DTSTART;TZID=Europe/London:20260119T183000
DTEND;TZID=Europe/London:20260119T200000
DTSTAMP:20260422T023838
CREATED:20260105T120640Z
LAST-MODIFIED:20260105T120640Z
UID:1214-1768847400-1768852800@www.cmt.org.uk
SUMMARY:SCOTLAND CMTUK Regional Support Group Online Meeting for People Living with Charcot-Marie-Tooth (CMT)
DESCRIPTION:
URL:https://www.cmt.org.uk/event/scotland-cmtuk-regional-support-group-online-meeting-for-people-living-with-charcot-marie-tooth-cmt/
CATEGORIES:Online Meetings
ATTACH;FMTTYPE=image/png:https://www.cmt.org.uk/wp-content/uploads/2026/01/SCOTLAND.png
END:VEVENT
BEGIN:VEVENT
DTSTART;TZID=Europe/London:20260120T110000
DTEND;TZID=Europe/London:20260120T123000
DTSTAMP:20260422T023838
CREATED:20260105T120818Z
LAST-MODIFIED:20260105T120818Z
UID:1217-1768906800-1768912200@www.cmt.org.uk
SUMMARY:GLOUCESTERSHIRE CMTUK Regional Support Group Online Meeting for People Living with Charcot-Marie-Tooth (CMT)
DESCRIPTION:
URL:https://www.cmt.org.uk/event/gloucestershire-cmtuk-regional-support-group-online-meeting-for-people-living-with-charcot-marie-tooth-cmt/
CATEGORIES:Online Meetings
ATTACH;FMTTYPE=image/png:https://www.cmt.org.uk/wp-content/uploads/2026/01/GLOU.png
END:VEVENT
BEGIN:VEVENT
DTSTART;TZID=Europe/London:20260121T193000
DTEND;TZID=Europe/London:20260121T210000
DTSTAMP:20260422T023838
CREATED:20260105T121009Z
LAST-MODIFIED:20260105T121009Z
UID:1220-1769023800-1769029200@www.cmt.org.uk
SUMMARY:WEST MIDLANDS CMTUK Regional Support Group Online Meeting for People Living with Charcot-Marie-Tooth (CMT)
DESCRIPTION:
URL:https://www.cmt.org.uk/event/west-midlands-cmtuk-regional-support-group-online-meeting-for-people-living-with-charcot-marie-tooth-cmt-2/
CATEGORIES:Online Meetings
ATTACH;FMTTYPE=image/png:https://www.cmt.org.uk/wp-content/uploads/2026/01/WEST-MID-EVENING.png
END:VEVENT
BEGIN:VEVENT
DTSTART;TZID=Europe/London:20260126T110000
DTEND;TZID=Europe/London:20260126T123000
DTSTAMP:20260422T023838
CREATED:20260105T121151Z
LAST-MODIFIED:20260105T121151Z
UID:1223-1769425200-1769430600@www.cmt.org.uk
SUMMARY:WEST MIDLANDS CMTUK Regional Support Group Online Meeting for People Living with Charcot-Marie-Tooth (CMT)
DESCRIPTION:
URL:https://www.cmt.org.uk/event/west-midlands-cmtuk-regional-support-group-online-meeting-for-people-living-with-charcot-marie-tooth-cmt-3/
CATEGORIES:Online Meetings
ATTACH;FMTTYPE=image/png:https://www.cmt.org.uk/wp-content/uploads/2026/01/WEST-MID-2.png
END:VEVENT
BEGIN:VEVENT
DTSTART;TZID=Europe/London:20260127T190000
DTEND;TZID=Europe/London:20260127T203000
DTSTAMP:20260422T023838
CREATED:20260105T121334Z
LAST-MODIFIED:20260105T121334Z
UID:1226-1769540400-1769545800@www.cmt.org.uk
SUMMARY:NORTH WEST CMTUK Regional Support Group Online Meeting for People Living with Charcot-Marie-Tooth (CMT)
DESCRIPTION:
URL:https://www.cmt.org.uk/event/north-west-cmtuk-regional-support-group-online-meeting-for-people-living-with-charcot-marie-tooth-cmt/
CATEGORIES:Online Meetings
ATTACH;FMTTYPE=image/png:https://www.cmt.org.uk/wp-content/uploads/2026/01/NORTH-WEST.png
END:VEVENT
BEGIN:VEVENT
DTSTART;TZID=Europe/London:20260129T190000
DTEND;TZID=Europe/London:20260129T203000
DTSTAMP:20260422T023838
CREATED:20260105T122125Z
LAST-MODIFIED:20260105T122125Z
UID:1232-1769713200-1769718600@www.cmt.org.uk
SUMMARY:CARERS CMTUK Support Group – Online Meeting for Those Caring for Someone with Charcot-Marie-Tooth (CMT)
DESCRIPTION:
URL:https://www.cmt.org.uk/event/carers-cmtuk-support-group-online-meeting-for-those-caring-for-someone-with-charcot-marie-tooth-cmt/
CATEGORIES:Online Meetings
ATTACH;FMTTYPE=image/png:https://www.cmt.org.uk/wp-content/uploads/2026/01/CARERS.png
END:VEVENT
END:VCALENDAR